BEGIN:VCALENDAR
VERSION:2.0
PRODID:-//First United Methodist Church Schenectady - ECPv6.15.20//NONSGML v1.0//EN
CALSCALE:GREGORIAN
METHOD:PUBLISH
X-ORIGINAL-URL:https://fumcschenectady.org/blog
X-WR-CALDESC:Events for First United Methodist Church Schenectady
REFRESH-INTERVAL;VALUE=DURATION:PT1H
X-Robots-Tag:noindex
X-PUBLISHED-TTL:PT1H
BEGIN:VTIMEZONE
TZID:America/New_York
BEGIN:DAYLIGHT
TZOFFSETFROM:-0500
TZOFFSETTO:-0400
TZNAME:EDT
DTSTART:20180311T070000
END:DAYLIGHT
BEGIN:STANDARD
TZOFFSETFROM:-0400
TZOFFSETTO:-0500
TZNAME:EST
DTSTART:20181104T060000
END:STANDARD
BEGIN:DAYLIGHT
TZOFFSETFROM:-0500
TZOFFSETTO:-0400
TZNAME:EDT
DTSTART:20190310T070000
END:DAYLIGHT
BEGIN:STANDARD
TZOFFSETFROM:-0400
TZOFFSETTO:-0500
TZNAME:EST
DTSTART:20191103T060000
END:STANDARD
BEGIN:DAYLIGHT
TZOFFSETFROM:-0500
TZOFFSETTO:-0400
TZNAME:EDT
DTSTART:20200308T070000
END:DAYLIGHT
BEGIN:STANDARD
TZOFFSETFROM:-0400
TZOFFSETTO:-0500
TZNAME:EST
DTSTART:20201101T060000
END:STANDARD
END:VTIMEZONE
BEGIN:VEVENT
DTSTART;TZID=America/New_York:20191027T110000
DTEND;TZID=America/New_York:20191027T130000
DTSTAMP:20260419T170955
CREATED:20190629T072447Z
LAST-MODIFIED:20190719T204320Z
UID:817-1572174000-1572181200@fumcschenectady.org
SUMMARY:American Brass Quintet
DESCRIPTION:The American Brass Quintet is internationally recognized as one of the premier chamber music ensembles of our time\, celebrated for peerless leadership in the brass world. Committed to the promotion of brass chamber music through education\, the American Brass Quintet has been in residence at The Juilliard School since 1987 and the Aspen Music Festival since 1970. The New York Times recently wrote that “among North American brass ensembles none is more venerable than the American Brass Quintet\,” while Newsweek has hailed the ensemble as “the high priests of brass.” \nNote: Due to an unforeseen medical issue with of one of the members of Harmonic Brass\, their 2019 American tour has been canceled.
URL:https://fumcschenectady.org/blog/event/american-brass-quintet/
LOCATION:First United Methodist Church\, 603 State Street\, Schenectady\, NY\, 12305\, United States
CATEGORIES:Concert Series
ATTACH;FMTTYPE=image/png:https://fumcschenectady.org/blog/wp-content/uploads/2019/07/PastedGraphic-2.png
ORGANIZER;CN="First United Methodist Church":MAILTO:fumcschenectady@yahoo.com
END:VEVENT
BEGIN:VEVENT
DTSTART;TZID=America/New_York:20190920T140000
DTEND;TZID=America/New_York:20190920T160000
DTSTAMP:20260419T170955
CREATED:20190917T064627Z
LAST-MODIFIED:20190917T064627Z
UID:834-1568988000-1568995200@fumcschenectady.org
SUMMARY:First United Methodist Schenectady MoonBee
DESCRIPTION:Please join us for a fun evening as we make and assemble MoonCatcher Kits.  Don’t sew?  No problem – we have plenty of jobs for everyone.  If you sew\, please bring your machine.  Also – please remember to bring disposable menstrual products for donation to local food pantries and shelters.  Did you know that you cannot purchase menstrual products with food stamps.  Help us address period poverty here at home!
URL:https://fumcschenectady.org/blog/event/first-united-methodist-schenectady-moonbee/
LOCATION:First United Methodist Church\, 603 State Street\, Schenectady\, NY\, 12305\, United States
ATTACH;FMTTYPE=image/jpeg:https://fumcschenectady.org/blog/wp-content/uploads/2019/09/68373940_2637841586283392_3057885585105485824_o-e1568688326328.jpg
ORGANIZER;CN="First United Methodist Church":MAILTO:fumcschenectady@yahoo.com
END:VEVENT
BEGIN:VEVENT
DTSTART;TZID=America/New_York:20190505T110000
DTEND;TZID=America/New_York:20190505T130000
DTSTAMP:20260419T170955
CREATED:20190308T080143Z
LAST-MODIFIED:20190308T083123Z
UID:634-1557054000-1557061200@fumcschenectady.org
SUMMARY:Lisa Vroman
DESCRIPTION:From Broadway to classics\, on stage and in concert\, lyric soprano Lisa Vroman has established herself as one of America’s most versatile voices. Ms. Vroman starred for several years on Broadway as Christine in The Phantom of the Opera. Also as Christine she garnered Theatre Critics’ awards for the role in a record breaking run in San Francisco. Lisa is a frequent guest soloist with orchestras\, and theater and opera companies around the world. She has performed as a guest of the Kennedy family at a Profiles in Courage Award Dinner as well as for Queen Elizabeth and former presidents Gerald Ford\, George H.W. Bush and Bill Clinton.﻿
URL:https://fumcschenectady.org/blog/event/lisa-vroman/
LOCATION:First United Methodist Church\, 603 State Street\, Schenectady\, NY\, 12305\, United States
CATEGORIES:Concert Series
ATTACH;FMTTYPE=image/jpeg:https://fumcschenectady.org/blog/wp-content/uploads/2018/06/LisaVroman.jpg
END:VEVENT
BEGIN:VEVENT
DTSTART;TZID=America/New_York:20190421T060000
DTEND;TZID=America/New_York:20190421T073000
DTSTAMP:20260419T170955
CREATED:20190329T071219Z
LAST-MODIFIED:20190329T071219Z
UID:695-1555826400-1555831800@fumcschenectady.org
SUMMARY:Easter Worship Service
DESCRIPTION:You may wish to arrive a bit early for this special Easter Worship Service. Not only will the Floral Cross start blooming to life during the Prelude but you’ll certainly want to be there to hear the wonderful prelude by our guest musicians\, the Schenectady Brass Quintet! Bring a fresh cut flower or one will be provided\, for all to place on the Floral Cross. \nOur parking lot is located on Chapel Street.
URL:https://fumcschenectady.org/blog/event/easter-worship-service/
LOCATION:First United Methodist Church\, 603 State Street\, Schenectady\, NY\, 12305\, United States
ATTACH;FMTTYPE=image/jpeg:https://fumcschenectady.org/blog/wp-content/uploads/2019/03/P4160026-e1553829097252.jpg
ORGANIZER;CN="First United Methodist Church":MAILTO:fumcschenectady@yahoo.com
END:VEVENT
BEGIN:VEVENT
DTSTART;TZID=America/New_York:20190324T110000
DTEND;TZID=America/New_York:20190324T130000
DTSTAMP:20260419T170955
CREATED:20190308T075758Z
LAST-MODIFIED:20190308T083024Z
UID:629-1553425200-1553432400@fumcschenectady.org
SUMMARY:Young People's Chorus of New York City
DESCRIPTION:The Young People’s Chorus of New York City (YPC) is recognized worldwide for its award-winning performances and spectacular artistry. By founding YPC\, Francisco Nuñez fulfilled his dream of bringing children from all walks of life together to make beautiful music and friendships\, thereby creating new opportunities and a brighter future for thousands of YPC children and their communities.﻿
URL:https://fumcschenectady.org/blog/event/young-peoples-chorus-of-new-york-city/
LOCATION:First United Methodist Church\, 603 State Street\, Schenectady\, NY\, 12305\, United States
CATEGORIES:Concert Series
ATTACH;FMTTYPE=image/jpeg:https://fumcschenectady.org/blog/wp-content/uploads/2018/06/YoungPeoplesChoirNYC.jpg
END:VEVENT
BEGIN:VEVENT
DTSTART;TZID=America/New_York:20190321T153000
DTEND;TZID=America/New_York:20190321T163000
DTSTAMP:20260419T170955
CREATED:20190319T062639Z
LAST-MODIFIED:20190319T062639Z
UID:660-1553182200-1553185800@fumcschenectady.org
SUMMARY:New Zealand Islamic Center Memorial
DESCRIPTION:There was a wonderful show of love and support at the Islamic Center of the Capital District yesterday.  If you missed the chance to attend or did attend and would like to continue this effort\, plan to gather this coming Thursday\, March 21\, from 7:30-8:30 pm for a memorial at the Al-Hidaya mosque in Latham\, 322 Troy-Schenectady Road.  Come and share your love and support to our friends and neighbors in our local Muslim community.  Car-pooling from our church’s parking lot is available at 7:00 pm.  For more information\, the mosque’s phone is: 518-608-1256.
URL:https://fumcschenectady.org/blog/event/new-zealand-islamic-center-memorial/
LOCATION:Al-Hidaya Mosque\, 322 Troy-Schenectady Road\, Latham\, NY\, 12110\, United States
CATEGORIES:Al-Hidaya
END:VEVENT
END:VCALENDAR